BEGIN:VCALENDAR
VERSION:2.0
PRODID:-//ASEPT Centre-Val-de-Loire - ECPv6.15.19//NONSGML v1.0//EN
CALSCALE:GREGORIAN
METHOD:PUBLISH
X-WR-CALNAME:ASEPT Centre-Val-de-Loire
X-ORIGINAL-URL:https://asept-centre-val-de-loire.fr
X-WR-CALDESC:Évènements pour ASEPT Centre-Val-de-Loire
REFRESH-INTERVAL;VALUE=DURATION:PT1H
X-Robots-Tag:noindex
X-PUBLISHED-TTL:PT1H
BEGIN:VTIMEZONE
TZID:Europe/Paris
BEGIN:DAYLIGHT
TZOFFSETFROM:+0100
TZOFFSETTO:+0200
TZNAME:CEST
DTSTART:20220327T010000
END:DAYLIGHT
BEGIN:STANDARD
TZOFFSETFROM:+0200
TZOFFSETTO:+0100
TZNAME:CET
DTSTART:20221030T010000
END:STANDARD
BEGIN:DAYLIGHT
TZOFFSETFROM:+0100
TZOFFSETTO:+0200
TZNAME:CEST
DTSTART:20230326T010000
END:DAYLIGHT
BEGIN:STANDARD
TZOFFSETFROM:+0200
TZOFFSETTO:+0100
TZNAME:CET
DTSTART:20231029T010000
END:STANDARD
BEGIN:DAYLIGHT
TZOFFSETFROM:+0100
TZOFFSETTO:+0200
TZNAME:CEST
DTSTART:20240331T010000
END:DAYLIGHT
BEGIN:STANDARD
TZOFFSETFROM:+0200
TZOFFSETTO:+0100
TZNAME:CET
DTSTART:20241027T010000
END:STANDARD
END:VTIMEZONE
BEGIN:VEVENT
DTSTART;TZID=Europe/Paris:20230425T140000
DTEND;TZID=Europe/Paris:20230425T150000
DTSTAMP:20260420T193754
CREATED:20230331T093212Z
LAST-MODIFIED:20230331T093212Z
UID:3655-1682431200-1682434800@asept-centre-val-de-loire.fr
SUMMARY:Café en ligne... Les loisirs des Seniors
DESCRIPTION:« Café en ligne » est un temps d’échanges en visioconférence ouvert à toutes et tous.\n\n\nNous vous invitons à participer à cette troisième édition qui aura lieu  : \nle mardi  25 avril 2023 à 14h sur le thème « Les loisirs des Seniors » \nVenez partager et échanger librement sur vos activités de loisirs : Activités à la maison ou en club ? Plutôt en individuel ou toujours en collectif ? \nDéjà à la retraite ou en préparation\, ce temps vous permettra de vous exprimer sur votre quotidien\, vos loisirs\, vos envies. Découvrons ensemble de nouvelles activités et partageons nos bons plans ! \nCe rendez-vous se déroule pendant 1 heure via Teams. Vous aurez donc besoin d’un outil numérique (ordinateur\, tablette ou smartphone) et d’une boisson de votre choix. \nNous vous remercions de vous inscrire en cliquant ICI avant le lundi 24 avril 2023. Vous recevrez le lien de connexion par mail 24 heures avant la séance. \nNombre de places limitées à 8 personnes
URL:https://asept-centre-val-de-loire.fr/event/cafe-en-ligne-les-loisirs-des-seniors/
LOCATION:En ligne
CATEGORIES:Café en ligne,Ma Retraite, J'en Profite !
ATTACH;FMTTYPE=image/png:https://asept-centre-val-de-loire.fr/wp-content/uploads/2023/03/Cafe-seniors-entete.png
END:VEVENT
END:VCALENDAR