BEGIN:VCALENDAR
VERSION:2.0
PRODID:-//ASEPT Centre-Val-de-Loire - ECPv6.15.19//NONSGML v1.0//EN
CALSCALE:GREGORIAN
METHOD:PUBLISH
X-WR-CALNAME:ASEPT Centre-Val-de-Loire
X-ORIGINAL-URL:https://asept-centre-val-de-loire.fr
X-WR-CALDESC:Évènements pour ASEPT Centre-Val-de-Loire
REFRESH-INTERVAL;VALUE=DURATION:PT1H
X-Robots-Tag:noindex
X-PUBLISHED-TTL:PT1H
BEGIN:VTIMEZONE
TZID:Europe/Paris
BEGIN:DAYLIGHT
TZOFFSETFROM:+0100
TZOFFSETTO:+0200
TZNAME:CEST
DTSTART:20220327T010000
END:DAYLIGHT
BEGIN:STANDARD
TZOFFSETFROM:+0200
TZOFFSETTO:+0100
TZNAME:CET
DTSTART:20221030T010000
END:STANDARD
BEGIN:DAYLIGHT
TZOFFSETFROM:+0100
TZOFFSETTO:+0200
TZNAME:CEST
DTSTART:20230326T010000
END:DAYLIGHT
BEGIN:STANDARD
TZOFFSETFROM:+0200
TZOFFSETTO:+0100
TZNAME:CET
DTSTART:20231029T010000
END:STANDARD
BEGIN:DAYLIGHT
TZOFFSETFROM:+0100
TZOFFSETTO:+0200
TZNAME:CEST
DTSTART:20240331T010000
END:DAYLIGHT
BEGIN:STANDARD
TZOFFSETFROM:+0200
TZOFFSETTO:+0100
TZNAME:CET
DTSTART:20241027T010000
END:STANDARD
END:VTIMEZONE
BEGIN:VEVENT
DTSTART;TZID=Europe/Paris:20230223T140000
DTEND;TZID=Europe/Paris:20230223T150000
DTSTAMP:20260424T142238
CREATED:20230223T143948Z
LAST-MODIFIED:20230223T144050Z
UID:3539-1677160800-1677164400@asept-centre-val-de-loire.fr
SUMMARY:Café en ligne... Retraité\, et alors ? Séance 2
DESCRIPTION:Café en ligne … est un temps d’échanges en visioconférence ouvert à toutes personnes qui se reconnait dans le thème de discussion choisi. \nLors de cette 2ème séance nous continuerons à échanger sur le thème  « Retraité\, et alors ? »  \nVenez échanger librement sur votre vision du quotidien du « Retraité » de nos jours. Déjà à la retraite ou en préparation\, ce temps vous permettra de vous exprimer sur votre quotidien\, vos bonheurs\,  vos doutes\, vos interrogations… et peut-être de repartir avec des réponses … \nCe rendez-vous se déroule pendant 1 heure via Teams. Vous aurez donc besoin d’un outil numérique (ordinateur\, tablette ou smartphone) et d’une boisson de votre choix.
URL:https://asept-centre-val-de-loire.fr/event/cafe-en-ligne-retraite-et-alors-seance-2/
LOCATION:En ligne
CATEGORIES:Café en ligne,Ma Retraite, J'en Profite !
ATTACH;FMTTYPE=image/png:https://asept-centre-val-de-loire.fr/wp-content/uploads/2022/12/thumbnail_visuel-cafe-en-ligne.png
END:VEVENT
END:VCALENDAR