BEGIN:VCALENDAR
VERSION:2.0
PRODID:-//ASEPT Centre-Val-de-Loire - ECPv6.15.19//NONSGML v1.0//EN
CALSCALE:GREGORIAN
METHOD:PUBLISH
X-WR-CALNAME:ASEPT Centre-Val-de-Loire
X-ORIGINAL-URL:https://asept-centre-val-de-loire.fr
X-WR-CALDESC:Évènements pour ASEPT Centre-Val-de-Loire
REFRESH-INTERVAL;VALUE=DURATION:PT1H
X-Robots-Tag:noindex
X-PUBLISHED-TTL:PT1H
BEGIN:VTIMEZONE
TZID:Europe/Paris
BEGIN:DAYLIGHT
TZOFFSETFROM:+0100
TZOFFSETTO:+0200
TZNAME:CEST
DTSTART:20220327T010000
END:DAYLIGHT
BEGIN:STANDARD
TZOFFSETFROM:+0200
TZOFFSETTO:+0100
TZNAME:CET
DTSTART:20221030T010000
END:STANDARD
BEGIN:DAYLIGHT
TZOFFSETFROM:+0100
TZOFFSETTO:+0200
TZNAME:CEST
DTSTART:20230326T010000
END:DAYLIGHT
BEGIN:STANDARD
TZOFFSETFROM:+0200
TZOFFSETTO:+0100
TZNAME:CET
DTSTART:20231029T010000
END:STANDARD
BEGIN:DAYLIGHT
TZOFFSETFROM:+0100
TZOFFSETTO:+0200
TZNAME:CEST
DTSTART:20240331T010000
END:DAYLIGHT
BEGIN:STANDARD
TZOFFSETFROM:+0200
TZOFFSETTO:+0100
TZNAME:CET
DTSTART:20241027T010000
END:STANDARD
END:VTIMEZONE
BEGIN:VEVENT
DTSTART;TZID=Europe/Paris:20231207T133000
DTEND;TZID=Europe/Paris:20231207T170000
DTSTAMP:20260419T230712
CREATED:20231012T144414Z
LAST-MODIFIED:20231012T144414Z
UID:4095-1701955800-1701968400@asept-centre-val-de-loire.fr
SUMMARY:Ma Retraite\, J'en Profite ! à La Bazoches-Gouet (28)
DESCRIPTION:L’ASEPT Centre-Val de Loire\, la commune de La Bazoches-Gouet\, la MDA de l’Eure et Loir et le conseil département de l’Eure-et-Loir ont le plaisir de vous inviter au spectacle « Une Nouvelle saison ». La représentation du Théâtre en chansons sera suivie d’un forum où vous pourrez rencontrer nos partenaires réunis autour du Bien Vieillir. \nUne Nouvelle Saison :\n« Sur fond d’enquête policière menée par deux inspecteurs genre « pieds nickelés »\, quatre jeunes retraités font vivre musicalement et en chansons un lieu associatif où se croisent au rythme des saisons de multiples personnages hauts en couleurs. «Aux Potes Agés»\, on rit\, on cause\, on chante surtout et on explore les pistes d’une retraite heureuse.» \nLes consignes sanitaires en vigueur devront être respectées.  \nRéservation obligatoire auprès de la MDA Pays du Dunois au 02.37.94.05.90 les mardis et jeudis ou mda.pays-dunois@mda28.fr avant le 5 décembre 2023.
URL:https://asept-centre-val-de-loire.fr/event/ma-retraite-jen-profite-a-la-bazoches-gouet-28/
LOCATION:Salle des fêtes de la Bazoches-Gouet\, Rue du 8 mai\, La Bazoches-Gouet\, 28330
CATEGORIES:Ma Retraite, J'en Profite !
END:VEVENT
END:VCALENDAR