BEGIN:VCALENDAR
VERSION:2.0
PRODID:-//ASEPT Centre-Val-de-Loire - ECPv6.15.19//NONSGML v1.0//EN
CALSCALE:GREGORIAN
METHOD:PUBLISH
X-WR-CALNAME:ASEPT Centre-Val-de-Loire
X-ORIGINAL-URL:https://asept-centre-val-de-loire.fr
X-WR-CALDESC:Évènements pour ASEPT Centre-Val-de-Loire
REFRESH-INTERVAL;VALUE=DURATION:PT1H
X-Robots-Tag:noindex
X-PUBLISHED-TTL:PT1H
BEGIN:VTIMEZONE
TZID:Europe/Paris
BEGIN:DAYLIGHT
TZOFFSETFROM:+0100
TZOFFSETTO:+0200
TZNAME:CEST
DTSTART:20220327T010000
END:DAYLIGHT
BEGIN:STANDARD
TZOFFSETFROM:+0200
TZOFFSETTO:+0100
TZNAME:CET
DTSTART:20221030T010000
END:STANDARD
BEGIN:DAYLIGHT
TZOFFSETFROM:+0100
TZOFFSETTO:+0200
TZNAME:CEST
DTSTART:20230326T010000
END:DAYLIGHT
BEGIN:STANDARD
TZOFFSETFROM:+0200
TZOFFSETTO:+0100
TZNAME:CET
DTSTART:20231029T010000
END:STANDARD
BEGIN:DAYLIGHT
TZOFFSETFROM:+0100
TZOFFSETTO:+0200
TZNAME:CEST
DTSTART:20240331T010000
END:DAYLIGHT
BEGIN:STANDARD
TZOFFSETFROM:+0200
TZOFFSETTO:+0100
TZNAME:CET
DTSTART:20241027T010000
END:STANDARD
END:VTIMEZONE
BEGIN:VEVENT
DTSTART;TZID=Europe/Paris:20230504T140000
DTEND;TZID=Europe/Paris:20230504T170000
DTSTAMP:20260420T102305
CREATED:20230223T151850Z
LAST-MODIFIED:20230223T153148Z
UID:3549-1683208800-1683219600@asept-centre-val-de-loire.fr
SUMMARY:Ma Retraite\, J'en Profite ! à Hanches (28)
DESCRIPTION:L’ASEPT Centre-Val de Loire\, la commune de Hanches\, la MDA de l’Eure et Loir et le conseil département de l’Eure-et-Loir ont le plaisir de vous inviter au spectacle « Une Nouvelle saison ». La représentation du Théâtre en chansons sera suivie d’un forum où vous pourrez rencontrer nos partenaires réunis autour du Bien Vieillir. \nUne Nouvelle Saison :\n« Sur fond d’enquête policière menée par deux inspecteurs genre « pieds nickelés »\, quatre jeunes retraités font vivre musicalement et en chansons un lieu associatif où se croisent au rythme des saisons de multiples personnages hauts en couleurs. «Aux Potes Agés»\, on rit\, on cause\, on chante surtout et on explore les pistes d’une retraite heureuse.» \nLes consignes sanitaires en vigueur devront être respectées.  \nRéservation obligatoire auprès de la MDA du Bassin Chartrain au 02.37.33.46.46 ou 02.37.20.13.48 ou mda.bassin-chartrain@mda28.fr avant le 2 mai 2023. 
URL:https://asept-centre-val-de-loire.fr/event/ma-retraite-jen-profite-a-hanches-28/
LOCATION:salle polyvalente de Hanches\, 25 rue de l'église\, Hanches\, 28130
CATEGORIES:Forums et salons,Ma Retraite, J'en Profite !
ATTACH;FMTTYPE=application/pdf:https://asept-centre-val-de-loire.fr/wp-content/uploads/2023/02/affiche-MRJP-hanches-vASEPT.pdf
END:VEVENT
BEGIN:VEVENT
DTSTART;TZID=Europe/Paris:20230516T140000
DTEND;TZID=Europe/Paris:20230516T170000
DTSTAMP:20260420T102305
CREATED:20230223T152315Z
LAST-MODIFIED:20230223T153156Z
UID:3558-1684245600-1684256400@asept-centre-val-de-loire.fr
SUMMARY:Ma Retraite\, J'en Profite ! à Argenton-sur-Creuse (36)
DESCRIPTION:L’ASEPT Centre-Val de Loire\, la commune et le CCAS d’Argenton-sur-Creuse ont le plaisir de vous inviter au spectacle « Une Nouvelle saison ». La représentation du Théâtre en chansons sera suivie d’un forum où vous pourrez rencontrer nos partenaires réunis autour du Bien Vieillir. \nUne Nouvelle Saison :\n« Sur fond d’enquête policière menée par deux inspecteurs genre « pieds nickelés »\, quatre jeunes retraités font vivre musicalement et en chansons un lieu associatif où se croisent au rythme des saisons de multiples personnages hauts en couleurs. «Aux Potes Agés»\, on rit\, on cause\, on chante surtout et on explore les pistes d’une retraite heureuse.» \nLes consignes sanitaires en vigueur devront être respectées.  \nRéservation conseillée auprès de l’ASEPT Centre-Val de Loire au 07.67.59.46.01.
URL:https://asept-centre-val-de-loire.fr/event/ma-retraite-jen-profite-a-argenton-sur-creuse-36/
LOCATION:Salle Jean Frappat\, rue de la Grenouille\, Argenton-sur-Creuse\, 36200
CATEGORIES:Forums et salons,Ma Retraite, J'en Profite !
ATTACH;FMTTYPE=application/pdf:https://asept-centre-val-de-loire.fr/wp-content/uploads/2023/02/affiche-MRJP-argenton-sur-creuse.pdf
END:VEVENT
BEGIN:VEVENT
DTSTART;TZID=Europe/Paris:20230517T140000
DTEND;TZID=Europe/Paris:20230517T170000
DTSTAMP:20260420T102305
CREATED:20230223T152601Z
LAST-MODIFIED:20230223T153207Z
UID:3564-1684332000-1684342800@asept-centre-val-de-loire.fr
SUMMARY:Ma Retraite\, J'en Profite ! à Bonny-sur-Loire (45)
DESCRIPTION:L’ASEPT Centre-Val de Loire\, la commune de Bonny-sur-Loire et les délégués MSA de l’échelon local du Giennois ont le plaisir de vous inviter au spectacle « Une Nouvelle saison ». La représentation du Théâtre en chansons sera suivie d’un forum où vous pourrez rencontrer nos partenaires réunis autour du Bien Vieillir. \nUne Nouvelle Saison :\n« Sur fond d’enquête policière menée par deux inspecteurs genre « pieds nickelés »\, quatre jeunes retraités font vivre musicalement et en chansons un lieu associatif où se croisent au rythme des saisons de multiples personnages hauts en couleurs. «Aux Potes Agés»\, on rit\, on cause\, on chante surtout et on explore les pistes d’une retraite heureuse.» \nLes consignes sanitaires en vigueur devront être respectées.  \nRéservation conseillée auprès de l’ASEPT Centre-Val de Loire au 07.67.59.46.01.
URL:https://asept-centre-val-de-loire.fr/event/ma-retraite-jen-profite-a-bonny-sur-loire-45/
LOCATION:Salle des fêtes de Bonny-sur-Loire\, Place de la mairie\, Bonny-sur-Loire\, 45420
CATEGORIES:Forums et salons,Ma Retraite, J'en Profite !
ATTACH;FMTTYPE=application/pdf:https://asept-centre-val-de-loire.fr/wp-content/uploads/2023/02/affiche-MRJP-A3-bonny.pdf
END:VEVENT
BEGIN:VEVENT
DTSTART;TZID=Europe/Paris:20230523T140000
DTEND;TZID=Europe/Paris:20230523T150000
DTSTAMP:20260420T102305
CREATED:20230503T123233Z
LAST-MODIFIED:20230510T123321Z
UID:3741-1684850400-1684854000@asept-centre-val-de-loire.fr
SUMMARY:Café en ligne... les activités de bien-être
DESCRIPTION:« Café en ligne » est un temps d’échanges en visioconférence ouvert à toutes et tous.\n\n\nNous vous invitons à participer à cette quatrième édition qui aura lieu  : \nle mardi  23 mai 2023 à 14h sur le thème «Les activités de Bien-être » \nVenez partager et échanger librement sur vos activités de bien-être : Activités à la maison ou en club ? Plutôt en individuel ou toujours en collectif ? \nDéjà à la retraite ou en préparation\, ce temps vous permettra de vous exprimer sur votre quotidien\, vos loisirs\, vos envies. Découvrons ensemble de nouvelles activités et partageons nos bons plans ! \nCe rendez-vous se déroule pendant 1 heure via Teams ou whats app en fonction des participants. Vous aurez donc besoin d’un outil numérique (ordinateur équipé d’une caméra et d’un micro\, tablette ou smartphone) et d’une boisson de votre choix. \nNous vous remercions de vous inscrire en cliquant ICI avant le lundi 22 mai 2023. Vous recevrez le lien de connexion par mail 24 heures avant la séance. \nNombre de places limitées à 8 personnes
URL:https://asept-centre-val-de-loire.fr/event/cafe-en-ligne-les-activites-de-bien-etre/
LOCATION:En ligne
CATEGORIES:Café en ligne,Ma Retraite, J'en Profite !
ATTACH;FMTTYPE=image/png:https://asept-centre-val-de-loire.fr/wp-content/uploads/2023/05/Cafe-seniors.png
END:VEVENT
END:VCALENDAR