BEGIN:VCALENDAR
VERSION:2.0
PRODID:-//ASEPT Centre-Val-de-Loire - ECPv6.15.19//NONSGML v1.0//EN
CALSCALE:GREGORIAN
METHOD:PUBLISH
X-ORIGINAL-URL:https://asept-centre-val-de-loire.fr
X-WR-CALDESC:Évènements pour ASEPT Centre-Val-de-Loire
REFRESH-INTERVAL;VALUE=DURATION:PT1H
X-Robots-Tag:noindex
X-PUBLISHED-TTL:PT1H
BEGIN:VTIMEZONE
TZID:Europe/Paris
BEGIN:DAYLIGHT
TZOFFSETFROM:+0100
TZOFFSETTO:+0200
TZNAME:CEST
DTSTART:20220327T010000
END:DAYLIGHT
BEGIN:STANDARD
TZOFFSETFROM:+0200
TZOFFSETTO:+0100
TZNAME:CET
DTSTART:20221030T010000
END:STANDARD
BEGIN:DAYLIGHT
TZOFFSETFROM:+0100
TZOFFSETTO:+0200
TZNAME:CEST
DTSTART:20230326T010000
END:DAYLIGHT
BEGIN:STANDARD
TZOFFSETFROM:+0200
TZOFFSETTO:+0100
TZNAME:CET
DTSTART:20231029T010000
END:STANDARD
BEGIN:DAYLIGHT
TZOFFSETFROM:+0100
TZOFFSETTO:+0200
TZNAME:CEST
DTSTART:20240331T010000
END:DAYLIGHT
BEGIN:STANDARD
TZOFFSETFROM:+0200
TZOFFSETTO:+0100
TZNAME:CET
DTSTART:20241027T010000
END:STANDARD
END:VTIMEZONE
BEGIN:VEVENT
DTSTART;TZID=Europe/Paris:20230307T100000
DTEND;TZID=Europe/Paris:20230307T170000
DTSTAMP:20260422T020445
CREATED:20230302T111328Z
LAST-MODIFIED:20230302T111328Z
UID:3591-1678183200-1678208400@asept-centre-val-de-loire.fr
SUMMARY:Forum " Mieux vivre chez soi" à Saint-Aignan (41)
DESCRIPTION:L’ASEPT Centre-Val de Loire sera présente à la journée rencontre « Mieux vivre chez soi » le : \nMardi 7 mars de 10h à 17h \nSalle des fêtes – Rue Anatole France  \nSaint-Aignan  \n  \nLors de ce forum vous aurez la possibilité de rencontrer les différents acteurs de prévention présents mais également de découvrir l’atelier CAP Bien-Etre que l’ASEPT Centre-Val de Loire met en place sur la commune de Saint-Aignan. \n  \n 
URL:https://asept-centre-val-de-loire.fr/event/forum-mieux-vivre-chez-soi-a-saint-aignan-41/
LOCATION:Salle des fêtes de Saint-Aignan\, 45 rue Constant Ragot\, Saint-Aignan\, 41110
CATEGORIES:Forums et salons
ATTACH;FMTTYPE=image/jpeg:https://asept-centre-val-de-loire.fr/wp-content/uploads/2023/03/flyer_Plan_de_travail_1_copie_2.jpg
END:VEVENT
BEGIN:VEVENT
DTSTART;TZID=Europe/Paris:20230307T140000
DTEND;TZID=Europe/Paris:20230307T170000
DTSTAMP:20260422T020445
CREATED:20221230T151558Z
LAST-MODIFIED:20221230T151559Z
UID:3423-1678197600-1678208400@asept-centre-val-de-loire.fr
SUMMARY:Ma Retraite\, J'en Profite ! à Langeais (37)
DESCRIPTION:L’ASEPT Centre-Val de Loire\, la commune de Langeais et le Contrat Local de Santé Pays Loire Nature ont le plaisir de vous inviter au spectacle « Une Nouvelle saison ». La représentation du Théâtre en chansons sera suivie d’un forum où vous pourrez rencontrer nos partenaires réunis autour du Bien Vieillir. \nUne Nouvelle Saison :\n« Sur fond d’enquête policière menée par deux inspecteurs genre « pieds nickelés »\, quatre jeunes retraités font vivre musicalement et en chansons un lieu associatif où se croisent au rythme des saisons de multiples personnages hauts en couleurs. «Aux Potes Agés»\, on rit\, on cause\, on chante surtout et on explore les pistes d’une retraite heureuse.» \nLes consignes sanitaires en vigueur devront être respectées.  \nRéservation obligatoire auprès de l’ASEPT Centre-Val de Loire au 07.67.59.46.01.
URL:https://asept-centre-val-de-loire.fr/event/ma-retraite-jen-profite-a-langeais-37/
LOCATION:IN’OX\, 3 rue Andrée COLSON\, LANGEAIS\, 37130\, France
CATEGORIES:Forums et salons,Ma Retraite, J'en Profite !
ATTACH;FMTTYPE=application/pdf:https://asept-centre-val-de-loire.fr/wp-content/uploads/2022/12/affiche-MRJP-A3-Langeais.pdf
END:VEVENT
END:VCALENDAR