BEGIN:VCALENDAR
VERSION:2.0
PRODID:-//ASEPT Centre-Val-de-Loire - ECPv6.15.19//NONSGML v1.0//EN
CALSCALE:GREGORIAN
METHOD:PUBLISH
X-WR-CALNAME:ASEPT Centre-Val-de-Loire
X-ORIGINAL-URL:https://asept-centre-val-de-loire.fr
X-WR-CALDESC:Évènements pour ASEPT Centre-Val-de-Loire
REFRESH-INTERVAL;VALUE=DURATION:PT1H
X-Robots-Tag:noindex
X-PUBLISHED-TTL:PT1H
BEGIN:VTIMEZONE
TZID:Europe/Paris
BEGIN:DAYLIGHT
TZOFFSETFROM:+0100
TZOFFSETTO:+0200
TZNAME:CEST
DTSTART:20240331T010000
END:DAYLIGHT
BEGIN:STANDARD
TZOFFSETFROM:+0200
TZOFFSETTO:+0100
TZNAME:CET
DTSTART:20241027T010000
END:STANDARD
BEGIN:DAYLIGHT
TZOFFSETFROM:+0100
TZOFFSETTO:+0200
TZNAME:CEST
DTSTART:20250330T010000
END:DAYLIGHT
BEGIN:STANDARD
TZOFFSETFROM:+0200
TZOFFSETTO:+0100
TZNAME:CET
DTSTART:20251026T010000
END:STANDARD
BEGIN:DAYLIGHT
TZOFFSETFROM:+0100
TZOFFSETTO:+0200
TZNAME:CEST
DTSTART:20260329T010000
END:DAYLIGHT
BEGIN:STANDARD
TZOFFSETFROM:+0200
TZOFFSETTO:+0100
TZNAME:CET
DTSTART:20261025T010000
END:STANDARD
END:VTIMEZONE
BEGIN:VEVENT
DTSTART;TZID=Europe/Paris:20250227T140000
DTEND;TZID=Europe/Paris:20250227T170000
DTSTAMP:20260423T094645
CREATED:20241112T122247Z
LAST-MODIFIED:20241112T122248Z
UID:4847-1740664800-1740675600@asept-centre-val-de-loire.fr
SUMMARY:Atelier Cap Bien-Être© à Beaulieu-lès-Loches (37) - Séance 1
DESCRIPTION:Les Ateliers Cap Bien-Être © sont un ensemble de modules visant à développer la capacité à adopter un comportement approprié face aux épreuves de la vie quotidienne\, notamment par la gestion du stress et des émotions. Cela passe par la mobilisation des compétences psychosociales de chacun qui sont découvertes au fil des séances. \nSéances les jeudis de 14h à 17h \nCalendrier des Séances : \n\nJeudi 27 février 2025\nJeudi 06 mars 2025\nJeudi 13 mars 2025\nJeudi 20 mars 2025\nJeudi 27 mars 2025\n\n  \nNombre de participants maximum : 12
URL:https://asept-centre-val-de-loire.fr/event/atelier-cap-bien-etre-a-beaulieu-les-loches-37-seance-1/
LOCATION:Petite salle des fêtes\, 1 rue des Morins\, Beaulieu-Lès-Loches\, 37600
CATEGORIES:Cap Bien-Être
ATTACH;FMTTYPE=image/png:https://asept-centre-val-de-loire.fr/wp-content/uploads/2022/12/visuel-aseptPlan-de-travail-2-copie-2.png
END:VEVENT
BEGIN:VEVENT
DTSTART;TZID=Europe/Paris:20250227T140000
DTEND;TZID=Europe/Paris:20250227T170000
DTSTAMP:20260423T094645
CREATED:20250121T150121Z
LAST-MODIFIED:20250121T150122Z
UID:4991-1740664800-1740675600@asept-centre-val-de-loire.fr
SUMMARY:Atelier Cap Bien-Être©  SAINT BENOIT LA FORÊT - Séance 1
DESCRIPTION:Les Ateliers Cap Bien-Être © sont un ensemble de modules visant à développer la capacité à adopter un comportement approprié face aux épreuves de la vie quotidienne\, notamment par la gestion du stress et des émotions. Cela passe par la mobilisation des compétences psychosociales de chacun qui sont découvertes au fil des séances. \nSéances les JEUDIS de 14h à 17h \nCalendrier des Séances : \n\n27 Février 2025 ;\n6\, 13 et 20 Mars 2025 ;\n3 Avril 2025\n\n  \n  \nNombre de participants maximum : 8
URL:https://asept-centre-val-de-loire.fr/event/atelier-cap-bien-etre-saint-benoit-la-foret-seance-1/
LOCATION:Salle du stade de foot\, 2 La Cabane\, SAINT BENOIT LA FORÊT\, 37500
CATEGORIES:Cap Bien-Être
ATTACH;FMTTYPE=image/png:https://asept-centre-val-de-loire.fr/wp-content/uploads/2022/09/visuel-aseptPlan-de-travail-2-copie-2.png
END:VEVENT
END:VCALENDAR