BEGIN:VCALENDAR
VERSION:2.0
PRODID:-//ASEPT Centre-Val-de-Loire - ECPv6.15.19//NONSGML v1.0//EN
CALSCALE:GREGORIAN
METHOD:PUBLISH
X-WR-CALNAME:ASEPT Centre-Val-de-Loire
X-ORIGINAL-URL:https://asept-centre-val-de-loire.fr
X-WR-CALDESC:Évènements pour ASEPT Centre-Val-de-Loire
REFRESH-INTERVAL;VALUE=DURATION:PT1H
X-Robots-Tag:noindex
X-PUBLISHED-TTL:PT1H
BEGIN:VTIMEZONE
TZID:Europe/Paris
BEGIN:DAYLIGHT
TZOFFSETFROM:+0100
TZOFFSETTO:+0200
TZNAME:CEST
DTSTART:20230326T010000
END:DAYLIGHT
BEGIN:STANDARD
TZOFFSETFROM:+0200
TZOFFSETTO:+0100
TZNAME:CET
DTSTART:20231029T010000
END:STANDARD
BEGIN:DAYLIGHT
TZOFFSETFROM:+0100
TZOFFSETTO:+0200
TZNAME:CEST
DTSTART:20240331T010000
END:DAYLIGHT
BEGIN:STANDARD
TZOFFSETFROM:+0200
TZOFFSETTO:+0100
TZNAME:CET
DTSTART:20241027T010000
END:STANDARD
BEGIN:DAYLIGHT
TZOFFSETFROM:+0100
TZOFFSETTO:+0200
TZNAME:CEST
DTSTART:20250330T010000
END:DAYLIGHT
BEGIN:STANDARD
TZOFFSETFROM:+0200
TZOFFSETTO:+0100
TZNAME:CET
DTSTART:20251026T010000
END:STANDARD
END:VTIMEZONE
BEGIN:VEVENT
DTSTART;TZID=Europe/Paris:20241105T093000
DTEND;TZID=Europe/Paris:20241105T120000
DTSTAMP:20260423T030229
CREATED:20240913T101243Z
LAST-MODIFIED:20240913T101243Z
UID:4708-1730799000-1730808000@asept-centre-val-de-loire.fr
SUMMARY:Atelier Cap Bien-Être© à Bracieux (41) - Séance 1
DESCRIPTION:Les Ateliers Cap Bien-Être © sont un ensemble de modules visant à développer la capacité à adopter un comportement approprié face aux épreuves de la vie quotidienne\, notamment par la gestion du stress et des émotions. Cela passe par la mobilisation des compétences psychosociales de chacun qui sont découvertes au fil des séances. \nSéances les mardis de 9h30 à 12h \nCalendrier des Séances : \n\nMardi 5 novembre 2024\nMardi 12 novembre 2024\nMardi 19 novembre 2024\nMardi 26 novembre 2024\n\n  \n  \nNombre de participants maximum : 8
URL:https://asept-centre-val-de-loire.fr/event/atelier-cap-bien-etre-a-bracieux-41-seance-1/
LOCATION:Maison des générations et de la culture\, 31 rue de Candy\, BRACIEUX\, 41250
CATEGORIES:Cap Bien-Être
ATTACH;FMTTYPE=image/png:https://asept-centre-val-de-loire.fr/wp-content/uploads/2022/12/visuel-aseptPlan-de-travail-2-copie-2.png
END:VEVENT
END:VCALENDAR